BEGIN:VCALENDAR
VERSION:2.0
PRODID:-//St. Nicholas’ Collegiate Church - ECPv6.15.20//NONSGML v1.0//EN
CALSCALE:GREGORIAN
METHOD:PUBLISH
X-WR-CALNAME:St. Nicholas’ Collegiate Church
X-ORIGINAL-URL:https://stnicholas.ie
X-WR-CALDESC:Events for St. Nicholas’ Collegiate Church
REFRESH-INTERVAL;VALUE=DURATION:PT1H
X-Robots-Tag:noindex
X-PUBLISHED-TTL:PT1H
BEGIN:VTIMEZONE
TZID:UTC
BEGIN:STANDARD
TZOFFSETFROM:+0000
TZOFFSETTO:+0000
TZNAME:UTC
DTSTART:20230101T000000
END:STANDARD
END:VTIMEZONE
BEGIN:VEVENT
DTSTART;TZID=UTC:20241206T200000
DTEND;TZID=UTC:20241206T210000
DTSTAMP:20260421T094551
CREATED:20241001T094620Z
LAST-MODIFIED:20241001T094620Z
UID:1972-1733515200-1733518800@stnicholas.ie
SUMMARY:Patronal Vespers for the Feast of St. Nicholas
DESCRIPTION:Patronal Vespers for the Feast of St Nicholas sung by the Collegiate Church Choir and Galway Cathedral Choir and with the clergy and people of both communities here at St Nicholas’ Collegiate Church. \nThe new icon of St Nicholas\, recently commissioned for the church by an anonymous donor\, will be blessed and dedicated during the service. \nAll welcome.
URL:https://stnicholas.ie/event/vespers-with-galway-cathedral/
LOCATION:Lombard Street\, Galway City\, Galway\, H91 PY20\, Ireland
CATEGORIES:Worship
END:VEVENT
END:VCALENDAR