BEGIN:VCALENDAR
VERSION:2.0
PRODID:-//St. Nicholas’ Collegiate Church - ECPv6.15.20//NONSGML v1.0//EN
CALSCALE:GREGORIAN
METHOD:PUBLISH
X-WR-CALNAME:St. Nicholas’ Collegiate Church
X-ORIGINAL-URL:https://stnicholas.ie
X-WR-CALDESC:Events for St. Nicholas’ Collegiate Church
REFRESH-INTERVAL;VALUE=DURATION:PT1H
X-Robots-Tag:noindex
X-PUBLISHED-TTL:PT1H
BEGIN:VTIMEZONE
TZID:UTC
BEGIN:STANDARD
TZOFFSETFROM:+0000
TZOFFSETTO:+0000
TZNAME:UTC
DTSTART:20250101T000000
END:STANDARD
END:VTIMEZONE
BEGIN:VEVENT
DTSTART;TZID=UTC:20260512T130000
DTEND;TZID=UTC:20260512T140000
DTSTAMP:20260423T094939
CREATED:20260421T082742Z
LAST-MODIFIED:20260421T082806Z
UID:2464-1778590800-1778594400@stnicholas.ie
SUMMARY:University of Tennessee at Chattanooga Chamber Singers
DESCRIPTION:FREE Afternoon concert\nTalented singers from the University of Tennessee at Chattanooga Chamber singers will be performing a variety of sacred\, spiritual and traditional songs for mixed voices.\nThe UTC Chattanooga Singers is a concert choir of male and female voices that performs a wide variety of music from a cappella works to major works with full orchestra. They have a long tradition of performing in the Chattanooga area\, throughout the United States\, and abroad.\nDr. Kevin Ford is the current director\, and the membership is open to students of all majors through audition.\nThe repertoire for the upcoming concert by the University of Tennessee at Chattanooga Chamber Singers showcases a rich blend of sacred\, spiritual and traditional music\, reflecting both Irish and international influences. The programme includes works such as “Justorum animae” by C. V. Stanford\, and “Ava Maria” composed by Seamas de Barra. Colin Mawby’s “Alleluia\, Christus Resurrexit” and Fiontán Ó Cearbhaill’s “Suantraí ár Slánaitheora” add further depth\, while the 14th-century “Prophetarum Presignata” from the Dublin Troper highlights the choir’s appreciation for historical music. Contemporary pieces are also featured\, including Michael McGlynn’s “An Oiche (The Night)”\, Ethan McGrath’s “Prayer of St. Patrick”\, and Spencer Wiles’ “The Walking on the Water”. Eleanor Daley’s “Set Me As A Seal” appears twice\, demonstrating its popularity. The concert concludes with cherished hymns and spirituals\, such as “Be Thou My Vision”\, “In Bright Mansions Above”\, and “Oh you must have that true religion”.\nThis diverse selection promises an engaging experience\, blending classical choral works with Irish melodies and spiritual songs\, under the direction of Dr. Kevin Ford.
URL:https://stnicholas.ie/event/university-of-tennessee-at-chattanooga-chamber-singers/
LOCATION:St. Nicholas Collegiate Church\, Lombard St\, Galway\, H91 PY20
ATTACH;FMTTYPE=image/png:https://stnicholas.ie/wp-content/uploads/2026/04/Screenshot-2026-04-21-092136.png
END:VEVENT
END:VCALENDAR