BEGIN:VCALENDAR
VERSION:2.0
PRODID:-//St. Nicholas’ Collegiate Church - ECPv6.15.20//NONSGML v1.0//EN
CALSCALE:GREGORIAN
METHOD:PUBLISH
X-WR-CALNAME:St. Nicholas’ Collegiate Church
X-ORIGINAL-URL:https://stnicholas.ie
X-WR-CALDESC:Events for St. Nicholas’ Collegiate Church
REFRESH-INTERVAL;VALUE=DURATION:PT1H
X-Robots-Tag:noindex
X-PUBLISHED-TTL:PT1H
BEGIN:VTIMEZONE
TZID:UTC
BEGIN:STANDARD
TZOFFSETFROM:+0000
TZOFFSETTO:+0000
TZNAME:UTC
DTSTART:20240101T000000
END:STANDARD
END:VTIMEZONE
BEGIN:VEVENT
DTSTART;TZID=UTC:20250806T200000
DTEND;TZID=UTC:20250806T210000
DTSTAMP:20260422T190734
CREATED:20250722T132803Z
LAST-MODIFIED:20250722T132803Z
UID:2107-1754510400-1754514000@stnicholas.ie
SUMMARY:The Collective | The Harmonizers\, Metro Voices & Tone Cold Sober
DESCRIPTION:The Collective: The Harmonizers\, Metro Voices & Tone Cold Sober\n\nFeaturing three Barbershop Ensemble’s performing: one from Sligo and two from Alexandria\, Virginia\, USA;  the Harmonizers (40 men)\, and the Metro Voices (20 female).\nFree Admission! With donations accepted for Music Generation\, Galway.
URL:https://stnicholas.ie/event/the-collective-the-harmonizers-metro-voices-tone-cold-sober/
LOCATION:Lombard Street\, Galway City\, Galway\, H91 PY20\, Ireland
ATTACH;FMTTYPE=image/png:https://stnicholas.ie/wp-content/uploads/2026/01/Screenshot-2025-07-22-142728.png
END:VEVENT
END:VCALENDAR