BEGIN:VCALENDAR
VERSION:2.0
PRODID:-//St. Nicholas’ Collegiate Church - ECPv6.15.20//NONSGML v1.0//EN
CALSCALE:GREGORIAN
METHOD:PUBLISH
X-WR-CALNAME:St. Nicholas’ Collegiate Church
X-ORIGINAL-URL:https://stnicholas.ie
X-WR-CALDESC:Events for St. Nicholas’ Collegiate Church
REFRESH-INTERVAL;VALUE=DURATION:PT1H
X-Robots-Tag:noindex
X-PUBLISHED-TTL:PT1H
BEGIN:VTIMEZONE
TZID:UTC
BEGIN:STANDARD
TZOFFSETFROM:+0000
TZOFFSETTO:+0000
TZNAME:UTC
DTSTART:20250101T000000
END:STANDARD
END:VTIMEZONE
BEGIN:VEVENT
DTSTART;TZID=UTC:20260524T210000
DTEND;TZID=UTC:20260524T220000
DTSTAMP:20260425T110149
CREATED:20260422T091737Z
LAST-MODIFIED:20260422T091741Z
UID:2473-1779656400-1779660000@stnicholas.ie
SUMMARY:Tenebrae II in Candlelight
DESCRIPTION:Part of the Galway Early Music Festival \nIn collaboration with Now and Then Media/H.I.P.S.T.E.R.\, harpsichordists Yonit Kosovske and Rachel Factor present Bach’s masterpiece The Art of Fugue in candlelight. \nFor information and tickets: https://www.resurgam.ie/galway-early-music-festival
URL:https://stnicholas.ie/event/tenebrae-ii-in-candlelight/
LOCATION:St. Nicholas Collegiate Church\, Lombard St\, Galway\, H91 PY20
ATTACH;FMTTYPE=image/png:https://stnicholas.ie/wp-content/uploads/2026/04/Screenshot-2026-04-22-094831.png
END:VEVENT
END:VCALENDAR