BEGIN:VCALENDAR
VERSION:2.0
PRODID:-//St. Nicholas’ Collegiate Church - ECPv6.15.20//NONSGML v1.0//EN
CALSCALE:GREGORIAN
METHOD:PUBLISH
X-WR-CALNAME:St. Nicholas’ Collegiate Church
X-ORIGINAL-URL:https://stnicholas.ie
X-WR-CALDESC:Events for St. Nicholas’ Collegiate Church
REFRESH-INTERVAL;VALUE=DURATION:PT1H
X-Robots-Tag:noindex
X-PUBLISHED-TTL:PT1H
BEGIN:VTIMEZONE
TZID:UTC
BEGIN:STANDARD
TZOFFSETFROM:+0000
TZOFFSETTO:+0000
TZNAME:UTC
DTSTART:20250101T000000
END:STANDARD
END:VTIMEZONE
BEGIN:VEVENT
DTSTART;TZID=UTC:20260523T180000
DTEND;TZID=UTC:20260523T190000
DTSTAMP:20260425T105525
CREATED:20260422T091304Z
LAST-MODIFIED:20260422T091307Z
UID:2470-1779559200-1779562800@stnicholas.ie
SUMMARY:Showcase Concert by English Cornett and Sackbut Ensemble (ECSE) and St Patrick's Brass Band
DESCRIPTION:Part of the Galway Early Music Festival \nFollowing the education workshop that afternoon\, ECSE and St Patrick’s Brass Band will share the stage to present the fruits of their collaboration in concert. \nFor more information and tickets: https://www.resurgam.ie/galway-early-music-festival
URL:https://stnicholas.ie/event/showcase-concert-by-english-cornett-and-sackbut-ensemble-ecse-and-st-patricks-brass-band/
LOCATION:St. Nicholas Collegiate Church\, Lombard St\, Galway\, H91 PY20
ATTACH;FMTTYPE=image/png:https://stnicholas.ie/wp-content/uploads/2026/04/Screenshot-2026-04-22-094831.png
END:VEVENT
END:VCALENDAR