BEGIN:VCALENDAR
VERSION:2.0
PRODID:-//St. Nicholas’ Collegiate Church - ECPv6.15.20//NONSGML v1.0//EN
CALSCALE:GREGORIAN
METHOD:PUBLISH
X-WR-CALNAME:St. Nicholas’ Collegiate Church
X-ORIGINAL-URL:https://stnicholas.ie
X-WR-CALDESC:Events for St. Nicholas’ Collegiate Church
REFRESH-INTERVAL;VALUE=DURATION:PT1H
X-Robots-Tag:noindex
X-PUBLISHED-TTL:PT1H
BEGIN:VTIMEZONE
TZID:UTC
BEGIN:STANDARD
TZOFFSETFROM:+0000
TZOFFSETTO:+0000
TZNAME:UTC
DTSTART:20250101T000000
END:STANDARD
END:VTIMEZONE
BEGIN:VEVENT
DTSTART;TZID=UTC:20260317T100000
DTEND;TZID=UTC:20260317T103000
DTSTAMP:20260422T083605
CREATED:20260105T132513Z
LAST-MODIFIED:20260307T150900Z
UID:2207-1773741600-1773743400@stnicholas.ie
SUMMARY:Service for St. Patrick's Day
DESCRIPTION:Service for St. Patrick’s Day. All very welcome to attend
URL:https://stnicholas.ie/event/service-for-st-patricks-day-2/
LOCATION:Nave
ATTACH;FMTTYPE=image/png:https://stnicholas.ie/wp-content/uploads/2026/01/Green-White-Fun-Four-Leaf-Clover-St-Patricks-Day-Animated-Social-Media-Graphic-4.png
END:VEVENT
END:VCALENDAR