BEGIN:VCALENDAR
VERSION:2.0
PRODID:-//St. Nicholas’ Collegiate Church - ECPv6.15.20//NONSGML v1.0//EN
CALSCALE:GREGORIAN
METHOD:PUBLISH
X-WR-CALNAME:St. Nicholas’ Collegiate Church
X-ORIGINAL-URL:https://stnicholas.ie
X-WR-CALDESC:Events for St. Nicholas’ Collegiate Church
REFRESH-INTERVAL;VALUE=DURATION:PT1H
X-Robots-Tag:noindex
X-PUBLISHED-TTL:PT1H
BEGIN:VTIMEZONE
TZID:UTC
BEGIN:STANDARD
TZOFFSETFROM:+0000
TZOFFSETTO:+0000
TZNAME:UTC
DTSTART:20250101T000000
END:STANDARD
END:VTIMEZONE
BEGIN:VEVENT
DTSTART;TZID=UTC:20260524T180000
DTEND;TZID=UTC:20260524T190000
DTSTAMP:20260425T091205
CREATED:20260422T091616Z
LAST-MODIFIED:20260422T091619Z
UID:2472-1779645600-1779649200@stnicholas.ie
SUMMARY:Reverie and Revelry
DESCRIPTION:Part of the Galway Early Music Festival \nThe festival offers a platform to Galway’s new baroque instrumental ensemble Vespera under the direction of baroque violinist Claire Duff and including all four ConTempo members. To celebrate GEMF’s 30th anniversary\, Vespera presents a programme of eighteenth-century music for string ensemble\, with organist James Taylor\, featuring: \nTelemann’s Ouverture\, Burlesque de Quixotte\, TWV 55:G10 \nPurcell’s Sonata in 4 parts\, no. 6 in G minor\, Z.807Vivaldi’s Violin Concerto for two violins in A minor\, op. 3/8Corelli’s Concerto Grosso no.4 in D major\, op. 6 \nFor more information and tickets: https://www.resurgam.ie/galway-early-music-festival
URL:https://stnicholas.ie/event/reverie-and-revelry/
LOCATION:St. Nicholas Collegiate Church\, Lombard St\, Galway\, H91 PY20
ATTACH;FMTTYPE=image/png:https://stnicholas.ie/wp-content/uploads/2026/04/Screenshot-2026-04-22-094831.png
END:VEVENT
END:VCALENDAR