BEGIN:VCALENDAR
VERSION:2.0
PRODID:-//St. Nicholas’ Collegiate Church - ECPv6.15.20//NONSGML v1.0//EN
CALSCALE:GREGORIAN
METHOD:PUBLISH
X-WR-CALNAME:St. Nicholas’ Collegiate Church
X-ORIGINAL-URL:https://stnicholas.ie
X-WR-CALDESC:Events for St. Nicholas’ Collegiate Church
REFRESH-INTERVAL;VALUE=DURATION:PT1H
X-Robots-Tag:noindex
X-PUBLISHED-TTL:PT1H
BEGIN:VTIMEZONE
TZID:UTC
BEGIN:STANDARD
TZOFFSETFROM:+0000
TZOFFSETTO:+0000
TZNAME:UTC
DTSTART:20230101T000000
END:STANDARD
END:VTIMEZONE
BEGIN:VEVENT
DTSTART;TZID=UTC:20240613T120000
DTEND;TZID=UTC:20240613T130000
DTSTAMP:20260421T094832
CREATED:20240521T113303Z
LAST-MODIFIED:20240521T113303Z
UID:1898-1718280000-1718283600@stnicholas.ie
SUMMARY:New Albany High School Orchestra- Ohio\, USA
DESCRIPTION:Lunchtime Orchestra Concert \nFree Admission
URL:https://stnicholas.ie/event/new-albany-high-school-orchestra-ohio-usa/
LOCATION:Lombard Street\, Galway City\, Galway\, H91 PY20\, Ireland
CATEGORIES:Concert - External Host
END:VEVENT
END:VCALENDAR