BEGIN:VCALENDAR
VERSION:2.0
PRODID:-//St. Nicholas’ Collegiate Church - ECPv6.15.20//NONSGML v1.0//EN
CALSCALE:GREGORIAN
METHOD:PUBLISH
X-WR-CALNAME:St. Nicholas’ Collegiate Church
X-ORIGINAL-URL:https://stnicholas.ie
X-WR-CALDESC:Events for St. Nicholas’ Collegiate Church
REFRESH-INTERVAL;VALUE=DURATION:PT1H
X-Robots-Tag:noindex
X-PUBLISHED-TTL:PT1H
BEGIN:VTIMEZONE
TZID:UTC
BEGIN:STANDARD
TZOFFSETFROM:+0000
TZOFFSETTO:+0000
TZNAME:UTC
DTSTART:20250101T000000
END:STANDARD
END:VTIMEZONE
BEGIN:VEVENT
DTSTART;TZID=UTC:20260203T130000
DTEND;TZID=UTC:20260203T140000
DTSTAMP:20260421T094958
CREATED:20260115T133908Z
LAST-MODIFIED:20260115T133908Z
UID:2218-1770123600-1770127200@stnicholas.ie
SUMMARY:Lunchtime Concert with ConTempo
DESCRIPTION:Music Connects presents a free lunchtime concert with ConTempo.
URL:https://stnicholas.ie/event/lunchtime-concert-with-contempo-10/
LOCATION:Lombard Street\, Galway City\, Galway\, H91 PY20\, Ireland
END:VEVENT
END:VCALENDAR