BEGIN:VCALENDAR
VERSION:2.0
PRODID:-//St. Nicholas’ Collegiate Church - ECPv6.15.20//NONSGML v1.0//EN
CALSCALE:GREGORIAN
METHOD:PUBLISH
X-WR-CALNAME:St. Nicholas’ Collegiate Church
X-ORIGINAL-URL:https://stnicholas.ie
X-WR-CALDESC:Events for St. Nicholas’ Collegiate Church
REFRESH-INTERVAL;VALUE=DURATION:PT1H
X-Robots-Tag:noindex
X-PUBLISHED-TTL:PT1H
BEGIN:VTIMEZONE
TZID:UTC
BEGIN:STANDARD
TZOFFSETFROM:+0000
TZOFFSETTO:+0000
TZNAME:UTC
DTSTART:20250101T000000
END:STANDARD
END:VTIMEZONE
BEGIN:VEVENT
DTSTART;TZID=UTC:20260506T130000
DTEND;TZID=UTC:20260506T140000
DTSTAMP:20260422T100745
CREATED:20260416T110109Z
LAST-MODIFIED:20260416T122401Z
UID:2455-1778072400-1778076000@stnicholas.ie
SUMMARY:High Point University Chamber Singers
DESCRIPTION:Join us on Wednesday\, 6th of May for a free concert. \nThe High Point University Chamber Singers from North Carolina will sing a mix of modern and traditional\, sacred\, spiritual\, and gospel favourites by John Tavener\, Eric Whitacre\, Thomas Tallis\, John Rutter\, Dolly Parton\, and many more. \nDirector: Marc Ashley Foster
URL:https://stnicholas.ie/event/high-point-university-chamber-singers/
LOCATION:St. Nicholas Collegiate Church\, Lombard St\, Galway\, H91 PY20
ATTACH;FMTTYPE=image/jpeg:https://stnicholas.ie/wp-content/uploads/2026/04/A1-HIGH-POINT-GALWAY-scaled.jpg
END:VEVENT
END:VCALENDAR