BEGIN:VCALENDAR
VERSION:2.0
PRODID:-//St. Nicholas’ Collegiate Church - ECPv6.15.20//NONSGML v1.0//EN
CALSCALE:GREGORIAN
METHOD:PUBLISH
X-WR-CALNAME:St. Nicholas’ Collegiate Church
X-ORIGINAL-URL:https://stnicholas.ie
X-WR-CALDESC:Events for St. Nicholas’ Collegiate Church
REFRESH-INTERVAL;VALUE=DURATION:PT1H
X-Robots-Tag:noindex
X-PUBLISHED-TTL:PT1H
BEGIN:VTIMEZONE
TZID:UTC
BEGIN:STANDARD
TZOFFSETFROM:+0000
TZOFFSETTO:+0000
TZNAME:UTC
DTSTART:20240101T000000
END:STANDARD
END:VTIMEZONE
BEGIN:VEVENT
DTSTART;TZID=UTC:20250614T190000
DTEND;TZID=UTC:20250614T203000
DTSTAMP:20260421T095403
CREATED:20250502T094646Z
LAST-MODIFIED:20250502T094646Z
UID:2078-1749927600-1749933000@stnicholas.ie
SUMMARY:Galway Alumni Ensemble and the Huglsinger Bavarian Choir
DESCRIPTION:Join us for a special concert on Saturday June 14th in Saint Nicholas’ Collegiate Church\, Galway with the Huglsingers Choir from Bavaria\, Germany and the Galway Alumni Ensemble.\nConcert starts at 7pm.\nFree entry: donations welcome
URL:https://stnicholas.ie/event/galway-alumni-ensemble-and-the-hulgsinger-bavarian-choir/
LOCATION:Lombard Street\, Galway City\, Galway\, H91 PY20\, Ireland
ATTACH;FMTTYPE=image/png:https://stnicholas.ie/wp-content/uploads/2026/01/Screenshot-2025-06-09-123941.png
END:VEVENT
END:VCALENDAR