BEGIN:VCALENDAR
VERSION:2.0
PRODID:-//St. Nicholas’ Collegiate Church - ECPv6.15.20//NONSGML v1.0//EN
CALSCALE:GREGORIAN
METHOD:PUBLISH
X-WR-CALNAME:St. Nicholas’ Collegiate Church
X-ORIGINAL-URL:https://stnicholas.ie
X-WR-CALDESC:Events for St. Nicholas’ Collegiate Church
REFRESH-INTERVAL;VALUE=DURATION:PT1H
X-Robots-Tag:noindex
X-PUBLISHED-TTL:PT1H
BEGIN:VTIMEZONE
TZID:UTC
BEGIN:STANDARD
TZOFFSETFROM:+0000
TZOFFSETTO:+0000
TZNAME:UTC
DTSTART:20240101T000000
END:STANDARD
END:VTIMEZONE
BEGIN:VEVENT
DTSTART;TZID=UTC:20250615T160000
DTEND;TZID=UTC:20250615T170000
DTSTAMP:20260421T093039
CREATED:20250310T094744Z
LAST-MODIFIED:20250310T094744Z
UID:2061-1750003200-1750006800@stnicholas.ie
SUMMARY:Evensong
DESCRIPTION:Sung by the Collegiate Church Choir- a sung contemplative serve to mark the end of the day
URL:https://stnicholas.ie/event/evensong-service/
LOCATION:Lombard Street\, Galway City\, Galway\, H91 PY20\, Ireland
END:VEVENT
END:VCALENDAR