BEGIN:VCALENDAR
VERSION:2.0
PRODID:-//St. Nicholas’ Collegiate Church - ECPv6.15.20//NONSGML v1.0//EN
CALSCALE:GREGORIAN
METHOD:PUBLISH
X-WR-CALNAME:St. Nicholas’ Collegiate Church
X-ORIGINAL-URL:https://stnicholas.ie
X-WR-CALDESC:Events for St. Nicholas’ Collegiate Church
REFRESH-INTERVAL;VALUE=DURATION:PT1H
X-Robots-Tag:noindex
X-PUBLISHED-TTL:PT1H
BEGIN:VTIMEZONE
TZID:UTC
BEGIN:STANDARD
TZOFFSETFROM:+0000
TZOFFSETTO:+0000
TZNAME:UTC
DTSTART:20240101T000000
END:STANDARD
END:VTIMEZONE
BEGIN:VEVENT
DTSTART;TZID=UTC:20250810T120000
DTEND;TZID=UTC:20250810T173000
DTSTAMP:20260422T174825
CREATED:20250806T114243Z
LAST-MODIFIED:20250806T114243Z
UID:2131-1754827200-1754847000@stnicholas.ie
SUMMARY:Closed for tourism
DESCRIPTION:Church closed to tourism- open at 5:15 for evening concert admission
URL:https://stnicholas.ie/event/closed-for-private-event-2/
LOCATION:Lombard Street\, Galway City\, Galway\, H91 PY20\, Ireland
END:VEVENT
END:VCALENDAR