BEGIN:VCALENDAR
VERSION:2.0
PRODID:-//St. Nicholas’ Collegiate Church - ECPv6.15.20//NONSGML v1.0//EN
CALSCALE:GREGORIAN
METHOD:PUBLISH
X-WR-CALNAME:St. Nicholas’ Collegiate Church
X-ORIGINAL-URL:https://stnicholas.ie
X-WR-CALDESC:Events for St. Nicholas’ Collegiate Church
REFRESH-INTERVAL;VALUE=DURATION:PT1H
X-Robots-Tag:noindex
X-PUBLISHED-TTL:PT1H
BEGIN:VTIMEZONE
TZID:UTC
BEGIN:STANDARD
TZOFFSETFROM:+0000
TZOFFSETTO:+0000
TZNAME:UTC
DTSTART:20240101T000000
END:STANDARD
END:VTIMEZONE
BEGIN:VEVENT
DTSTART;TZID=UTC:20250617T130000
DTEND;TZID=UTC:20250617T140000
DTSTAMP:20260421T102058
CREATED:20250616T110008Z
LAST-MODIFIED:20250616T110008Z
UID:2102-1750165200-1750168800@stnicholas.ie
SUMMARY:Colorado Choir
DESCRIPTION:Join us for a vibrant lunchtime concert with the acclaimed Colorado Choir\, visiting from the United States. This dynamic ensemble brings an exciting and diverse programme\, shaped by their touring experiences across Ireland and Scotland. \nExpect a moving celebration of vocal harmony\, featuring both international repertoire and a special focus on Irish music\, including works by Liam Óg Ó hOistín\, one of Ireland’s most captivating contemporary composers. \nThis event promises to be a beautiful cultural moment—uplifting\, accessible\, and full of heart. \nAdmission is free – all are welcome.Come\, take a midday musical break\, and enjoy world-class choral music in the stunning surrounds of Galway’s historic St Nicholas’ Church
URL:https://stnicholas.ie/event/claddagh-school-of-music/
LOCATION:Lombard Street\, Galway City\, Galway\, H91 PY20\, Ireland
ATTACH;FMTTYPE=image/png:https://stnicholas.ie/wp-content/uploads/2026/01/unnamed.png
END:VEVENT
END:VCALENDAR