BEGIN:VCALENDAR
VERSION:2.0
PRODID:-//St. Nicholas’ Collegiate Church - ECPv6.15.20//NONSGML v1.0//EN
CALSCALE:GREGORIAN
METHOD:PUBLISH
X-WR-CALNAME:St. Nicholas’ Collegiate Church
X-ORIGINAL-URL:https://stnicholas.ie
X-WR-CALDESC:Events for St. Nicholas’ Collegiate Church
REFRESH-INTERVAL;VALUE=DURATION:PT1H
X-Robots-Tag:noindex
X-PUBLISHED-TTL:PT1H
BEGIN:VTIMEZONE
TZID:UTC
BEGIN:STANDARD
TZOFFSETFROM:+0000
TZOFFSETTO:+0000
TZNAME:UTC
DTSTART:20240101T000000
END:STANDARD
END:VTIMEZONE
BEGIN:VEVENT
DTSTART;TZID=UTC:20250810T180000
DTEND;TZID=UTC:20250810T193000
DTSTAMP:20260422T161259
CREATED:20250502T101259Z
LAST-MODIFIED:20250502T101259Z
UID:2088-1754848800-1754854200@stnicholas.ie
SUMMARY:Claddagh Choral Concert
DESCRIPTION:Join us for a heartwarming evening of music as Claddagh Choral proudly presents a special concert featuring the Voice of Galway and Encore Choir – the largest choral programme for older adults in the United States. As part of their 10-day tour of Ireland\, Encore Choir concludes their journey in the historic setting of St Nicholas’ Church with a lively\, uplifting performance alongside local favourites\, Voice of Galway. The concert is led by the artistic team of Claddagh Choral and promises to be an inspiring evening celebrating music\, community\, and creativity across generations. This event is free to attend\, with optional donations on the night supporting ALONE\, a national charity supporting older people in Ireland. Whether you’re a music lover\, a supporter of the arts\, or passionate about ageing with dignity and connection — this is a concert not to be missed. \nFree Admission
URL:https://stnicholas.ie/event/claddagh-choral-concert/
LOCATION:Lombard Street\, Galway City\, Galway\, H91 PY20\, Ireland
ATTACH;FMTTYPE=image/png:https://stnicholas.ie/wp-content/uploads/2026/01/Screenshot-2025-07-25-101944.png
END:VEVENT
END:VCALENDAR