BEGIN:VCALENDAR
VERSION:2.0
PRODID:-//St. Nicholas’ Collegiate Church - ECPv6.15.20//NONSGML v1.0//EN
CALSCALE:GREGORIAN
METHOD:PUBLISH
X-WR-CALNAME:St. Nicholas’ Collegiate Church
X-ORIGINAL-URL:https://stnicholas.ie
X-WR-CALDESC:Events for St. Nicholas’ Collegiate Church
REFRESH-INTERVAL;VALUE=DURATION:PT1H
X-Robots-Tag:noindex
X-PUBLISHED-TTL:PT1H
BEGIN:VTIMEZONE
TZID:UTC
BEGIN:STANDARD
TZOFFSETFROM:+0000
TZOFFSETTO:+0000
TZNAME:UTC
DTSTART:20230101T000000
END:STANDARD
END:VTIMEZONE
BEGIN:VEVENT
DTSTART;TZID=UTC:20240529T110000
DTEND;TZID=UTC:20240529T130000
DTSTAMP:20260421T082048
CREATED:20240516T092028Z
LAST-MODIFIED:20260120T154954Z
UID:1872-1716980400-1716987600@stnicholas.ie
SUMMARY:Chatty Crafters
DESCRIPTION:All are welcome to join Chatty Crafters for a time of crafting and fellowship.
URL:https://stnicholas.ie/event/chatty-crafters/2024-05-29/
LOCATION:Lombard Street\, Galway City\, Galway\, H91 PY20\, Ireland
CATEGORIES:Worship
ATTACH;FMTTYPE=image/jpeg:https://stnicholas.ie/wp-content/uploads/2026/01/chatty-crafters.jpg
END:VEVENT
END:VCALENDAR