BEGIN:VCALENDAR
VERSION:2.0
PRODID:-//St. Nicholas’ Collegiate Church - ECPv6.15.20//NONSGML v1.0//EN
CALSCALE:GREGORIAN
METHOD:PUBLISH
X-WR-CALNAME:St. Nicholas’ Collegiate Church
X-ORIGINAL-URL:https://stnicholas.ie
X-WR-CALDESC:Events for St. Nicholas’ Collegiate Church
REFRESH-INTERVAL;VALUE=DURATION:PT1H
X-Robots-Tag:noindex
X-PUBLISHED-TTL:PT1H
BEGIN:VTIMEZONE
TZID:UTC
BEGIN:STANDARD
TZOFFSETFROM:+0000
TZOFFSETTO:+0000
TZNAME:UTC
DTSTART:20230101T000000
END:STANDARD
END:VTIMEZONE
BEGIN:VEVENT
DTSTART;TZID=UTC:20241018T210000
DTEND;TZID=UTC:20241018T220000
DTSTAMP:20260421T083540
CREATED:20241001T090628Z
LAST-MODIFIED:20241001T090628Z
UID:1945-1729285200-1729288800@stnicholas.ie
SUMMARY:Candlelight Concert- Rings & Dragons
DESCRIPTION:Tickets from Feverup.com\nProgramme \n\nThe Shire\nWinter is coming\nReign of the Targaryens\nLight of the Seven\nOld Friends\nMisty Mountain Cold\nFlaming Red Hair\nGollum\nThe Grace of Undomiel\nRains of Castamere\nFire & Blood\nJon Snow\nThe Passing of the Elves\nThe Caverns of Isengard\nLighting of the beacons\n\n\nPerformers \n\nString quartet – ConTempo String Quartet
URL:https://stnicholas.ie/event/candlelight-concert-rings-dragons-2/
LOCATION:Lombard Street\, Galway City\, Galway\, H91 PY20\, Ireland
END:VEVENT
END:VCALENDAR