BEGIN:VCALENDAR
VERSION:2.0
PRODID:-//St. Nicholas’ Collegiate Church - ECPv6.15.20//NONSGML v1.0//EN
CALSCALE:GREGORIAN
METHOD:PUBLISH
X-WR-CALNAME:St. Nicholas’ Collegiate Church
X-ORIGINAL-URL:https://stnicholas.ie
X-WR-CALDESC:Events for St. Nicholas’ Collegiate Church
REFRESH-INTERVAL;VALUE=DURATION:PT1H
X-Robots-Tag:noindex
X-PUBLISHED-TTL:PT1H
BEGIN:VTIMEZONE
TZID:UTC
BEGIN:STANDARD
TZOFFSETFROM:+0000
TZOFFSETTO:+0000
TZNAME:UTC
DTSTART:20240101T000000
END:STANDARD
END:VTIMEZONE
BEGIN:VEVENT
DTSTART;TZID=UTC:20251227T210000
DTEND;TZID=UTC:20251227T220000
DTSTAMP:20260421T100104
CREATED:20251211T125903Z
LAST-MODIFIED:20251211T125903Z
UID:2188-1766869200-1766872800@stnicholas.ie
SUMMARY:Candlelight Concert- Christmas Movie Soundtracks
DESCRIPTION:Programme \n\nAll I Want for Christmas Is You from Love Actually\nHave Yourself a Merry Little Christmas from Meet Me in St. Louis\nChristmas Time Is Here and Skating from A Charlie Brown Christmas\nWhite Christmas from Holiday Inn\nYou’re a Mean One Mr. Grinch from How the Grinch Stole Christmas!\nRudolph the Red-Nosed Reindeer from Rudolph the Red-Nosed Reindeer\nSilver Bells from The Lemon Drop Kid\nWinter Wonderland and Let It Snow! Let It Snow! from While You Were Sleeping\nThe Chipmunk Song (Christmas Don’t Be Late) from Alvin and the Chipmunks\nCarol of the Bells from Home Alone\nJingle Bell Rock from Jingle All the Way\nThe Nightmare Before Christmas Medley\nWhere Are You Christmas? from Dr. Seuss’ How the Grinch Stole Christmas\nI Believe in You and Me from The Preacher’s Wife\nBelieve from The Polar Express\n\nPerformers \n\nString quartet – ConTempo String Quartet\n\nTickets from Feverup.com
URL:https://stnicholas.ie/event/candlelight-concert-christmas-movie-soundtracks-3/
LOCATION:Lombard Street\, Galway City\, Galway\, H91 PY20\, Ireland
ATTACH;FMTTYPE=image/jpeg:https://stnicholas.ie/wp-content/uploads/2026/01/feverphoto.jpg
END:VEVENT
END:VCALENDAR