BEGIN:VCALENDAR
VERSION:2.0
PRODID:-//St. Nicholas’ Collegiate Church - ECPv6.15.20//NONSGML v1.0//EN
CALSCALE:GREGORIAN
METHOD:PUBLISH
X-WR-CALNAME:St. Nicholas’ Collegiate Church
X-ORIGINAL-URL:https://stnicholas.ie
X-WR-CALDESC:Events for St. Nicholas’ Collegiate Church
REFRESH-INTERVAL;VALUE=DURATION:PT1H
X-Robots-Tag:noindex
X-PUBLISHED-TTL:PT1H
BEGIN:VTIMEZONE
TZID:UTC
BEGIN:STANDARD
TZOFFSETFROM:+0000
TZOFFSETTO:+0000
TZNAME:UTC
DTSTART:20240101T000000
END:STANDARD
END:VTIMEZONE
BEGIN:VEVENT
DTSTART;TZID=UTC:20250124T203000
DTEND;TZID=UTC:20250124T213000
DTSTAMP:20260424T084101
CREATED:20250116T115930Z
LAST-MODIFIED:20250116T115930Z
UID:1995-1737750600-1737754200@stnicholas.ie
SUMMARY:Candlelight Concert- Best of Bridgerton
DESCRIPTION:Dearest Reader\, Lady Whistledown has already given her verdict: the event of the season is here! Join us for a magical live music performance with Candlelight: Best of Bridgerton on Strings in Galway. Surrounded by the soft glow of candlelight\, listen to your favorite melodies from Shondaland’s ‘Bridgerton’ series on Netflix\, reimagined by a talented string ensemble.  \n  \nPerformers- ConTempo String Quartet
URL:https://stnicholas.ie/event/candlelight-concert-best-of-bridgerton-4/
LOCATION:Lombard Street\, Galway City\, Galway\, H91 PY20\, Ireland
ATTACH;FMTTYPE=image/jpeg:https://stnicholas.ie/wp-content/uploads/2026/01/feverphoto.jpg
END:VEVENT
END:VCALENDAR