BEGIN:VCALENDAR
VERSION:2.0
PRODID:-//St. Nicholas’ Collegiate Church - ECPv6.15.20//NONSGML v1.0//EN
CALSCALE:GREGORIAN
METHOD:PUBLISH
X-WR-CALNAME:St. Nicholas’ Collegiate Church
X-ORIGINAL-URL:https://stnicholas.ie
X-WR-CALDESC:Events for St. Nicholas’ Collegiate Church
REFRESH-INTERVAL;VALUE=DURATION:PT1H
X-Robots-Tag:noindex
X-PUBLISHED-TTL:PT1H
BEGIN:VTIMEZONE
TZID:UTC
BEGIN:STANDARD
TZOFFSETFROM:+0000
TZOFFSETTO:+0000
TZNAME:UTC
DTSTART:20240101T000000
END:STANDARD
END:VTIMEZONE
BEGIN:VEVENT
DTSTART;TZID=UTC:20251018T190000
DTEND;TZID=UTC:20251018T200000
DTSTAMP:20260422T095853
CREATED:20250725T093756Z
LAST-MODIFIED:20250725T093756Z
UID:2115-1760814000-1760817600@stnicholas.ie
SUMMARY:Candlelight Concert: A Tribute to Taylor Swift
DESCRIPTION:Programme \n\nLavender Haze\nLove Story\nCardigan\nBlank Space\nEnchanted\nAnti-Hero\nSnow on the Beach\nWe Are Never Ever Getting Back Together\nWildest Dreams\nLover\nI Knew You Were Trouble\nYou Belong With Me\nShake It Off\n\n  \nPerformers \n\nString quartet – ConTempo String Quartet
URL:https://stnicholas.ie/event/candlelight-concert-a-tribute-to-taylor-swift-3/
LOCATION:Lombard Street\, Galway City\, Galway\, H91 PY20\, Ireland
ATTACH;FMTTYPE=image/jpeg:https://stnicholas.ie/wp-content/uploads/2026/01/feverphoto.jpg
END:VEVENT
END:VCALENDAR