BEGIN:VCALENDAR
VERSION:2.0
PRODID:-//St. Nicholas’ Collegiate Church - ECPv6.15.20//NONSGML v1.0//EN
CALSCALE:GREGORIAN
METHOD:PUBLISH
X-WR-CALNAME:St. Nicholas’ Collegiate Church
X-ORIGINAL-URL:https://stnicholas.ie
X-WR-CALDESC:Events for St. Nicholas’ Collegiate Church
REFRESH-INTERVAL;VALUE=DURATION:PT1H
X-Robots-Tag:noindex
X-PUBLISHED-TTL:PT1H
BEGIN:VTIMEZONE
TZID:UTC
BEGIN:STANDARD
TZOFFSETFROM:+0000
TZOFFSETTO:+0000
TZNAME:UTC
DTSTART:20250101T000000
END:STANDARD
END:VTIMEZONE
BEGIN:VEVENT
DTSTART;TZID=UTC:20260526T193000
DTEND;TZID=UTC:20260526T213000
DTSTAMP:20260422T100529
CREATED:20260416T123020Z
LAST-MODIFIED:20260416T123139Z
UID:2457-1779823800-1779831000@stnicholas.ie
SUMMARY:Alan Stivell- Heart and Soul Tour
DESCRIPTION:Tickets available from the Roisin Dubh website:\nhttps://roisindubh.net/listings/alan-stivell-60-years-croi-agus-ainm-2026-05-26-193000-81046 \n“Heart & Soul” Tour \nAlan Stivell is embarking on a tour of churches and cathedrals in Brittany and across Europe to present a unique project: a concert that revisits his work in an intimate format. \nFrom 1966 to 2026\, sixty years of career that he celebrates here in Ireland with two very different facets. The most intimate\, the one he has already performed in numerous churches\, leads the artist and the audience to a spiritual elevation in rhythm with his heart\, even if the concert is secular.\nLong before becoming a professional\, he was already playing the Celtic harp from Brittany\, recently restored by his father\, notably in 1954 at Vannes/Gwened Cathedral in Brittany\, but also at UNESCO in Paris.\nShortly after\, as a teenager\, he was sketching his own “harps of the future\,” looking like the prototype he brings on this tour. Accompanied by a magnificent keyboardist\, Tangi Miossec\, Alan sings in Breton\, but also in Irish\, Welsh\, English\, and French. Because while Alan Stivell’s world revolves around a center—Brittany and\, more broadly\, Celtica—it’s a world without external boundaries.\nReconnecting with Irish audiences was a dream that has now come true.
URL:https://stnicholas.ie/event/alan-stivell/
LOCATION:St. Nicholas Collegiate Church\, Lombard St\, Galway\, H91 PY20
ATTACH;FMTTYPE=image/jpeg:https://stnicholas.ie/wp-content/uploads/2026/04/IRELAND-ALL-DATES.jpg
END:VEVENT
END:VCALENDAR